BEGIN:VCALENDAR
VERSION:2.0
PRODID:-//wp-events-plugin.com//7.2.3.1//EN
TZID:Europe/Berlin
X-WR-TIMEZONE:Europe/Berlin
BEGIN:VEVENT
UID:7@eth-hamburg.de
DTSTART;TZID=Europe/Berlin:20251006T193000
DTEND;TZID=Europe/Berlin:20251006T213000
DTSTAMP:20250901T081853Z
URL:https://eth-hamburg.de/events/german-american-friendship-day-the-hunch
 back-variations/
SUMMARY:German-American Friendship Day: The Hunchback Variations
DESCRIPTION:On the occasion of German-American Friendship Day and in cele
 bration of the long-standing partnership between Hamburg and Chicago\, Th
 e English Theatre of Hamburg invites you to a special evening of live perf
 ormance\, cultural exchange\, and community. // TICKETS AVAILABLE 1 AUGUST
ATTACH;FMTTYPE=image/jpeg:https://eth-hamburg.de/wp-content/uploads/2025/0
 6/Hunchback-Variations-Poster-e1749638783422.png
CATEGORIES:Specials
END:VEVENT
BEGIN:VTIMEZONE
TZID:Europe/Berlin
X-LIC-LOCATION:Europe/Berlin
BEGIN:DAYLIGHT
DTSTART:20250330T030000
TZOFFSETFROM:+0100
TZOFFSETTO:+0200
TZNAME:CEST
END:DAYLIGHT
END:VTIMEZONE
END:VCALENDAR